BEGIN:VCALENDAR
VERSION:2.0
PRODID:-//hacksw/handcal//NONSGML v1.0//EN
CALSCALE:GREGORIAN
X-WR-TIMEZONE:America/New_York
BEGIN:VEVENT
LOCATION:
SUMMARY:Use of the Web-based Data Collection Tool (DCT)
DESCRIPTION:About this Webinar Training\n\nTraining covers the technical 
 aspects of using the Data Collection Tool (DCT) for 
 submitting for either the Diabetes Recognition Program (DRP) 
 and/or the Heart/Stroke Recognition Program (HSRP).\nWho 
 Should Attend\n\nDecision makers\, practice clinicians and 
 administrative staff who will be submitting a DRP or HSRP 
 data collection tool.\n
DTSTART:20211103T140000
DTEND:20211103T153000
URL;VALUE=URI:
DTSTAMP:20260419T123510
UID:69e5043e33837
END:VEVENT
END:VCALENDAR